BEGIN:VCALENDAR
VERSION:2.0
PRODID:calendify.com
BEGIN:VEVENT
UID:calendify-session-PeR40Lll43j
DTSTART:20220206T130000Z
SEQUENCE:0
TRANSP:OPAQUE
DTEND:20220206T134000Z
URL:https://calendify.com/session/PeR40Lll43j
LOCATION:D.openjdk
SUMMARY:Deep Learning for Java Developers
CLASS:PUBLIC
DESCRIPTION:https://calendify.com/session/PeR40Lll43j
DTSTAMP:20260422T123156Z
CREATED:20220120T214606Z
LAST-MODIFIED:20220206T225004Z
END:VEVENT
END:VCALENDAR