BEGIN:VCALENDAR
VERSION:2.0
PRODID:calendify.com
BEGIN:VEVENT
UID:calendify-session-PeR40Lpx43j
DTSTART:20210521T121500Z
SEQUENCE:0
TRANSP:OPAQUE
DTEND:20210521T124500Z
URL:https://calendify.com/session/PeR40Lpx43j
LOCATION:Kanal 1
SUMMARY:Silicon Values: The Future of Free Speech Under Surveillance Capita
 lism
CLASS:PUBLIC
DESCRIPTION:https://calendify.com/session/PeR40Lpx43j
DTSTAMP:20260423T015442Z
CREATED:20210511T185144Z
LAST-MODIFIED:20210524T215002Z
END:VEVENT
END:VCALENDAR