BEGIN:VCALENDAR
VERSION:2.0
PRODID:calendify.com
BEGIN:VEVENT
UID:calendify-session-PeR40Lrm43j
DTSTART:20210521T103000Z
SEQUENCE:0
TRANSP:OPAQUE
DTEND:20210521T105500Z
URL:https://calendify.com/session/PeR40Lrm43j
LOCATION:Kanal 2
SUMMARY:Year(s) of the Uncanny
CLASS:PUBLIC
DESCRIPTION:https://calendify.com/session/PeR40Lrm43j
DTSTAMP:20260424T003227Z
CREATED:20210429T130909Z
LAST-MODIFIED:20210524T215002Z
END:VEVENT
END:VCALENDAR