BEGIN:VCALENDAR
VERSION:2.0
PRODID:calendify.com
BEGIN:VEVENT
UID:calendify-session-PeR40V9QM3j
DTSTART:20230410T110000Z
SEQUENCE:0
TRANSP:OPAQUE
DTEND:20230410T115000Z
URL:https://calendify.com/session/PeR40V9QM3j
LOCATION:K2 Rahel Liebeschütz-Plaut
SUMMARY:OWASP Raider: a novel framework for manipulating HTTP processes of 
 persistent sessions
CLASS:PUBLIC
DESCRIPTION:https://calendify.com/session/PeR40V9QM3j
DTSTAMP:20260420T111924Z
CREATED:20230309T185708Z
LAST-MODIFIED:20230409T215003Z
END:VEVENT
END:VCALENDAR