BEGIN:VCALENDAR
VERSION:2.0
PRODID:calendify.com
BEGIN:VEVENT
UID:calendify-session-PeR40VLwM3j
DTSTART:20221229T141500Z
SEQUENCE:0
TRANSP:OPAQUE
DTEND:20221229T144500Z
URL:https://calendify.com/session/PeR40VLwM3j
LOCATION:WICMP Seminarraum
SUMMARY:Schlangenprogrammiernacht – Ein Blick hinter die Kulissen
CLASS:PUBLIC
DESCRIPTION:https://calendify.com/session/PeR40VLwM3j
DTSTAMP:20260422T123321Z
CREATED:20221221T105639Z
LAST-MODIFIED:20221230T225006Z
END:VEVENT
END:VCALENDAR