BEGIN:VCALENDAR
VERSION:2.0
PRODID:calendify.com
BEGIN:VEVENT
UID:calendify-session-PeR40VbmM3j
DTSTART:20230609T081500Z
SEQUENCE:0
TRANSP:OPAQUE
DTEND:20230609T091500Z
URL:https://calendify.com/session/PeR40VbmM3j
LOCATION:Blauer Salon
SUMMARY:Geschweifte Klammern in der bash
CLASS:PUBLIC
DESCRIPTION:https://calendify.com/session/PeR40VbmM3j
DTSTAMP:20260422T154757Z
CREATED:20230527T091821Z
LAST-MODIFIED:20230611T215002Z
END:VEVENT
END:VCALENDAR