BEGIN:VCALENDAR
VERSION:2.0
PRODID:calendify.com
BEGIN:VEVENT
UID:calendify-session-PeR40VpqM3j
DTSTART:20221229T163000Z
SEQUENCE:0
TRANSP:OPAQUE
DTEND:20221229T173000Z
URL:https://calendify.com/session/PeR40VpqM3j
LOCATION:dezentrale Hauptraum
SUMMARY:Wie baue ich bessere WLAN-Infrastruktur?
CLASS:PUBLIC
DESCRIPTION:https://calendify.com/session/PeR40VpqM3j
DTSTAMP:20260421T044254Z
CREATED:20221229T142009Z
LAST-MODIFIED:20221230T225009Z
END:VEVENT
END:VCALENDAR