BEGIN:VCALENDAR
VERSION:2.0
PRODID:calendify.com
BEGIN:VEVENT
UID:calendify-session-PeR40Y8EO3j
DTSTART:20220609T094500Z
SEQUENCE:0
TRANSP:OPAQUE
DTEND:20220609T101500Z
URL:https://calendify.com/session/PeR40Y8EO3j
LOCATION:Stage 2
SUMMARY:Ob Insekten\, Fische oder Vögel – unsere Artenvielfalt schrumpft
 . Kann KI sie schützen?
CLASS:PUBLIC
DESCRIPTION:https://calendify.com/session/PeR40Y8EO3j
DTSTAMP:20260423T174717Z
CREATED:20220526T162948Z
LAST-MODIFIED:20220613T235204Z
END:VEVENT
END:VCALENDAR