BEGIN:VCALENDAR
VERSION:2.0
PRODID:calendify.com
BEGIN:VEVENT
UID:calendify-session-PeR40YK8O3j
DTSTART:20220609T114500Z
SEQUENCE:0
TRANSP:OPAQUE
DTEND:20220609T124500Z
URL:https://calendify.com/session/PeR40YK8O3j
LOCATION:Stage 2
SUMMARY:(Digitale) Kommunikation zur Endlagersuche – Was haben wir gelern
 t?
CLASS:PUBLIC
DESCRIPTION:https://calendify.com/session/PeR40YK8O3j
DTSTAMP:20260423T105520Z
CREATED:20220526T162947Z
LAST-MODIFIED:20220613T235204Z
END:VEVENT
END:VCALENDAR