BEGIN:VCALENDAR
VERSION:2.0
PRODID:calendify.com
BEGIN:VEVENT
UID:calendify-session-PeR40YRmO3j
DTSTART:20220521T143000Z
SEQUENCE:0
TRANSP:OPAQUE
DTEND:20220521T153000Z
URL:https://calendify.com/session/PeR40YRmO3j
LOCATION:Blauer Salon
SUMMARY:Unikernel Security Analysis
CLASS:PUBLIC
DESCRIPTION:https://calendify.com/session/PeR40YRmO3j
DTSTAMP:20260420T203105Z
CREATED:20220503T003004Z
LAST-MODIFIED:20220521T215002Z
END:VEVENT
END:VCALENDAR