BEGIN:VCALENDAR
VERSION:2.0
PRODID:calendify.com
BEGIN:VEVENT
UID:calendify-session-PeR40YvwO3j
DTSTART:20220608T180000Z
SEQUENCE:0
TRANSP:OPAQUE
DTEND:20220608T190000Z
URL:https://calendify.com/session/PeR40YvwO3j
LOCATION:Stage 1
SUMMARY:Any Way the Wind Blows: Sascha Lobo
CLASS:PUBLIC
DESCRIPTION:https://calendify.com/session/PeR40YvwO3j
DTSTAMP:20260423T134702Z
CREATED:20220526T162946Z
LAST-MODIFIED:20220613T235204Z
END:VEVENT
END:VCALENDAR