BEGIN:VCALENDAR
VERSION:2.0
PRODID:calendify.com
BEGIN:VEVENT
UID:calendify-session-PeR40oAYg3j
DTSTART:20210207T090000Z
SEQUENCE:0
TRANSP:OPAQUE
DTEND:20210207T093000Z
URL:https://calendify.com/session/PeR40oAYg3j
LOCATION:D.geospatial
SUMMARY:Introduction to OSGeo
CLASS:PUBLIC
DESCRIPTION:https://calendify.com/session/PeR40oAYg3j
DTSTAMP:20260420T002243Z
CREATED:20210111T170320Z
LAST-MODIFIED:20210208T224804Z
END:VEVENT
END:VCALENDAR