BEGIN:VCALENDAR
VERSION:2.0
PRODID:calendify.com
BEGIN:VEVENT
UID:calendify-session-PeR40oLxg3j
DTSTART:20210206T094000Z
SEQUENCE:0
TRANSP:OPAQUE
DTEND:20210206T102000Z
URL:https://calendify.com/session/PeR40oLxg3j
LOCATION:D.openjdk
SUMMARY:10 Ways Everyone Can Support the Java Community
CLASS:PUBLIC
DESCRIPTION:https://calendify.com/session/PeR40oLxg3j
DTSTAMP:20260424T040024Z
CREATED:20210111T170318Z
LAST-MODIFIED:20210208T224802Z
END:VEVENT
END:VCALENDAR