BEGIN:VCALENDAR
VERSION:2.0
PRODID:calendify.com
BEGIN:VEVENT
UID:calendify-session-PeR40oVlg3j
DTSTART:20210206T122000Z
SEQUENCE:0
TRANSP:OPAQUE
DTEND:20210206T132000Z
URL:https://calendify.com/session/PeR40oVlg3j
LOCATION:D.sds
SUMMARY:Replicated block storage automation with LINSTOR
CLASS:PUBLIC
DESCRIPTION:https://calendify.com/session/PeR40oVlg3j
DTSTAMP:20260424T062354Z
CREATED:20210111T170319Z
LAST-MODIFIED:20210208T224803Z
END:VEVENT
END:VCALENDAR