BEGIN:VCALENDAR
VERSION:2.0
PRODID:calendify.com
BEGIN:VEVENT
UID:calendify-session-PeR40oYxg3j
DTSTART:20210206T125000Z
SEQUENCE:0
TRANSP:OPAQUE
DTEND:20210206T133500Z
URL:https://calendify.com/session/PeR40oYxg3j
LOCATION:D.network
SUMMARY:Monitoring Large Networks with Naemon\, Thruk\, Mod-Gearman and LMD
CLASS:PUBLIC
DESCRIPTION:https://calendify.com/session/PeR40oYxg3j
DTSTAMP:20260422T165237Z
CREATED:20210111T170319Z
LAST-MODIFIED:20210208T224802Z
END:VEVENT
END:VCALENDAR