BEGIN:VCALENDAR
VERSION:2.0
PRODID:calendify.com
BEGIN:VEVENT
UID:calendify-session-PeR40opwg3j
DTSTART:20210207T160000Z
SEQUENCE:0
TRANSP:OPAQUE
DTEND:20210207T170000Z
URL:https://calendify.com/session/PeR40opwg3j
LOCATION:D.libreoffice
SUMMARY:LibreOffice Lightning Talks
CLASS:PUBLIC
DESCRIPTION:https://calendify.com/session/PeR40opwg3j
DTSTAMP:20260419T235617Z
CREATED:20210111T170320Z
LAST-MODIFIED:20210208T224804Z
END:VEVENT
END:VCALENDAR