BEGIN:VCALENDAR
VERSION:2.0
PRODID:calendify.com
BEGIN:VEVENT
UID:calendify-session-PeR40ox2g3j
DTSTART:20210207T130000Z
SEQUENCE:0
TRANSP:OPAQUE
DTEND:20210207T133000Z
URL:https://calendify.com/session/PeR40ox2g3j
LOCATION:S.ntop
SUMMARY:ntopng Network Monitoring and Discovery
CLASS:PUBLIC
DESCRIPTION:https://calendify.com/session/PeR40ox2g3j
DTSTAMP:20260419T194730Z
CREATED:20210203T140304Z
LAST-MODIFIED:20210208T224804Z
END:VEVENT
END:VCALENDAR