BEGIN:VCALENDAR
VERSION:2.0
PRODID:calendify.com
BEGIN:VEVENT
UID:calendify-session-PeR40ozqg3j
DTSTART:20210206T103000Z
SEQUENCE:0
TRANSP:OPAQUE
DTEND:20210206T111500Z
URL:https://calendify.com/session/PeR40ozqg3j
LOCATION:M.community
SUMMARY:schul-frei
CLASS:PUBLIC
DESCRIPTION:https://calendify.com/session/PeR40ozqg3j
DTSTAMP:20260422T230313Z
CREATED:20210115T190815Z
LAST-MODIFIED:20210208T224802Z
END:VEVENT
END:VCALENDAR