BEGIN:VCALENDAR
VERSION:2.0
PRODID:calendify.com
BEGIN:VEVENT
UID:calendify-session-PeR40qp2O3j
DTSTART:20241230T143000Z
SEQUENCE:0
TRANSP:OPAQUE
DTEND:20241230T151500Z
URL:https://calendify.com/session/PeR40qp2O3j
LOCATION:SoS Saal E
SUMMARY:Kein Fahrschein? Kein Knast! – How To Bürger*innenantrag
CLASS:PUBLIC
DESCRIPTION:https://calendify.com/session/PeR40qp2O3j
DTSTAMP:20260423T151142Z
CREATED:20241229T224004Z
LAST-MODIFIED:20250101T225004Z
END:VEVENT
END:VCALENDAR