BEGIN:VCALENDAR
VERSION:2.0
PRODID:calendify.com
BEGIN:VEVENT
UID:calendify-session-PeR40ralM3j
DTSTART:20241227T203000Z
SEQUENCE:0
TRANSP:OPAQUE
DTEND:20241227T223000Z
URL:https://calendify.com/session/PeR40ralM3j
LOCATION:Chill Floor
SUMMARY:Paradise Hippies
CLASS:PUBLIC
DESCRIPTION:https://calendify.com/session/PeR40ralM3j
DTSTAMP:20260424T002645Z
CREATED:20241227T141459Z
LAST-MODIFIED:20250101T225002Z
END:VEVENT
END:VCALENDAR