BEGIN:VCALENDAR
VERSION:2.0
PRODID:calendify.com
BEGIN:VEVENT
UID:calendify-session-PeR40rqxM3j
DTSTART:20240921T220000Z
SEQUENCE:0
TRANSP:OPAQUE
DTEND:20240922T000000Z
URL:https://calendify.com/session/PeR40rqxM3j
LOCATION:IZ
SUMMARY:Schönheitsideale in die Tonne treten! [DE]
CLASS:PUBLIC
DESCRIPTION:https://calendify.com/session/PeR40rqxM3j
DTSTAMP:20260422T215356Z
CREATED:20241208T220338Z
LAST-MODIFIED:20241208T220338Z
END:VEVENT
END:VCALENDAR