BEGIN:VCALENDAR
VERSION:2.0
PRODID:calendify.com
BEGIN:VEVENT
UID:calendify-session-QVx490Abg2E
DTSTART:20211031T120000Z
SEQUENCE:0
TRANSP:OPAQUE
DTEND:20211031T124500Z
URL:https://calendify.com/session/QVx490Abg2E
LOCATION:Stream
SUMMARY:Ransomware - wo soll das noch hinführen?
CLASS:PUBLIC
DESCRIPTION:https://calendify.com/session/QVx490Abg2E
DTSTAMP:20260424T002952Z
CREATED:20210916T064746Z
LAST-MODIFIED:20211101T215003Z
END:VEVENT
END:VCALENDAR