BEGIN:VCALENDAR
VERSION:2.0
PRODID:calendify.com
BEGIN:VEVENT
UID:calendify-session-QVx490Dbg2E
DTSTART:20211026T220000Z
SEQUENCE:0
TRANSP:OPAQUE
DTEND:20211027T215500Z
URL:https://calendify.com/session/QVx490Dbg2E
LOCATION:Kunst 2
SUMMARY:Virtual Peephole
CLASS:PUBLIC
DESCRIPTION:https://calendify.com/session/QVx490Dbg2E
DTSTAMP:20260424T035510Z
CREATED:20211025T095003Z
LAST-MODIFIED:20211101T215003Z
END:VEVENT
END:VCALENDAR