BEGIN:VCALENDAR
VERSION:2.0
PRODID:calendify.com
BEGIN:VEVENT
UID:calendify-session-QVx490LYg2E
DTSTART:20210309T160000Z
SEQUENCE:0
TRANSP:OPAQUE
DTEND:20210309T170000Z
URL:https://calendify.com/session/QVx490LYg2E
LOCATION:Broadcast Talks
SUMMARY:What is the future of data and AI — and what role will Mozilla pl
 ay?
CLASS:PUBLIC
DESCRIPTION:https://calendify.com/session/QVx490LYg2E
DTSTAMP:20260420T160339Z
CREATED:20210426T094927Z
LAST-MODIFIED:20210426T094927Z
END:VEVENT
END:VCALENDAR