BEGIN:VCALENDAR
VERSION:2.0
PRODID:calendify.com
BEGIN:VEVENT
UID:calendify-session-QVx490Zzg2E
DTSTART:20211227T150000Z
SEQUENCE:0
TRANSP:OPAQUE
DTEND:20211227T153000Z
URL:https://calendify.com/session/QVx490Zzg2E
LOCATION:c-base
SUMMARY:Facebook Files Explained
CLASS:PUBLIC
DESCRIPTION:https://calendify.com/session/QVx490Zzg2E
DTSTAMP:20260422T164844Z
CREATED:20211220T014016Z
LAST-MODIFIED:20211230T225002Z
END:VEVENT
END:VCALENDAR