BEGIN:VCALENDAR
VERSION:2.0
PRODID:calendify.com
BEGIN:VEVENT
UID:calendify-session-QVx490aRg2E
DTSTART:20220206T160000Z
SEQUENCE:0
TRANSP:OPAQUE
DTEND:20220206T164500Z
URL:https://calendify.com/session/QVx490aRg2E
LOCATION:D.distributions
SUMMARY:Collaboration instead of Competition
CLASS:PUBLIC
DESCRIPTION:https://calendify.com/session/QVx490aRg2E
DTSTAMP:20260422T153144Z
CREATED:20220120T214606Z
LAST-MODIFIED:20220206T225003Z
END:VEVENT
END:VCALENDAR