BEGIN:VCALENDAR
VERSION:2.0
PRODID:calendify.com
BEGIN:VEVENT
UID:calendify-session-QVx490qEg2E
DTSTART:20211229T190000Z
SEQUENCE:0
TRANSP:OPAQUE
DTEND:20211229T210000Z
URL:https://calendify.com/session/QVx490qEg2E
LOCATION:Haecksen Zur schönen Mary
SUMMARY:Haecksen-LateNight Dinner (Frühstück in Neuseeland)
CLASS:PUBLIC
DESCRIPTION:https://calendify.com/session/QVx490qEg2E
DTSTAMP:20260422T153548Z
CREATED:20211220T014018Z
LAST-MODIFIED:20211230T225002Z
END:VEVENT
END:VCALENDAR