BEGIN:VCALENDAR
VERSION:2.0
PRODID:calendify.com
BEGIN:VEVENT
UID:calendify-session-QVx491KE42E
DTSTART:20201227T210000Z
SEQUENCE:0
TRANSP:OPAQUE
DTEND:20201228T010000Z
URL:https://calendify.com/session/QVx491KE42E
LOCATION:ChaosTrawler
SUMMARY:C3-Teleshop Tag 1
CLASS:PUBLIC
DESCRIPTION:https://calendify.com/session/QVx491KE42E
DTSTAMP:20260423T231028Z
CREATED:20210114T033302Z
LAST-MODIFIED:20211226T143449Z
END:VEVENT
END:VCALENDAR