BEGIN:VCALENDAR
VERSION:2.0
PRODID:calendify.com
BEGIN:VEVENT
UID:calendify-session-QVx491Vb42E
DTSTART:20210207T120000Z
SEQUENCE:0
TRANSP:OPAQUE
DTEND:20210207T122000Z
URL:https://calendify.com/session/QVx491Vb42E
LOCATION:D.design
SUMMARY:Ways to Contribute to OS Projects Without Writing Line(s) of Code
CLASS:PUBLIC
DESCRIPTION:https://calendify.com/session/QVx491Vb42E
DTSTAMP:20260423T230745Z
CREATED:20210111T170319Z
LAST-MODIFIED:20210208T224804Z
END:VEVENT
END:VCALENDAR