BEGIN:VCALENDAR
VERSION:2.0
PRODID:calendify.com
BEGIN:VEVENT
UID:calendify-session-QVx491nz42E
DTSTART:20210207T090000Z
SEQUENCE:0
TRANSP:OPAQUE
DTEND:20210207T093000Z
URL:https://calendify.com/session/QVx491nz42E
LOCATION:D.postgresql
SUMMARY:Some SQL Tricks of an Application DBA
CLASS:PUBLIC
DESCRIPTION:https://calendify.com/session/QVx491nz42E
DTSTAMP:20260423T231758Z
CREATED:20210111T170320Z
LAST-MODIFIED:20210208T224804Z
END:VEVENT
END:VCALENDAR