BEGIN:VCALENDAR
VERSION:2.0
PRODID:calendify.com
BEGIN:VEVENT
UID:calendify-session-QVx491xD42E
DTSTART:20210206T160000Z
SEQUENCE:0
TRANSP:OPAQUE
DTEND:20210206T170000Z
URL:https://calendify.com/session/QVx491xD42E
LOCATION:B.bofs
SUMMARY:FOSDEM: The first 20 years
CLASS:PUBLIC
DESCRIPTION:https://calendify.com/session/QVx491xD42E
DTSTAMP:20260423T134853Z
CREATED:20210205T010309Z
LAST-MODIFIED:20210208T224802Z
END:VEVENT
END:VCALENDAR