BEGIN:VCALENDAR
VERSION:2.0
PRODID:calendify.com
BEGIN:VEVENT
UID:calendify-session-QVx49XVBg2E
DTSTART:20171229T111500Z
SEQUENCE:0
TRANSP:OPAQUE
DTEND:20171229T114500Z
URL:https://calendify.com/session/QVx49XVBg2E
LOCATION:Saal Clarke
SUMMARY:Bringing Linux back to server boot ROMs with NERF and Heads
CLASS:PUBLIC
DESCRIPTION:https://calendify.com/session/QVx49XVBg2E
DTSTAMP:20260422T164542Z
CREATED:20200625T113327Z
LAST-MODIFIED:20200625T113327Z
END:VEVENT
END:VCALENDAR