BEGIN:VCALENDAR
VERSION:2.0
PRODID:calendify.com
BEGIN:VEVENT
UID:calendify-session-QVx49d1bg2E
DTSTART:20221229T200000Z
SEQUENCE:0
TRANSP:OPAQUE
DTEND:20221229T210000Z
URL:https://calendify.com/session/QVx49d1bg2E
LOCATION:xrelog22 - Stream
SUMMARY:Menschenrechtsverletzungen durch Facebook/Meta
CLASS:PUBLIC
DESCRIPTION:https://calendify.com/session/QVx49d1bg2E
DTSTAMP:20260424T035917Z
CREATED:20221218T163048Z
LAST-MODIFIED:20221230T225007Z
END:VEVENT
END:VCALENDAR