BEGIN:VCALENDAR
VERSION:2.0
PRODID:calendify.com
BEGIN:VEVENT
UID:calendify-session-QVx49dQEg2E
DTSTART:20230606T114500Z
SEQUENCE:0
TRANSP:OPAQUE
DTEND:20230606T124500Z
URL:https://calendify.com/session/QVx49dQEg2E
LOCATION:Home Base
SUMMARY:Ein Blick hinter die Kulissen: Erfahre mehr über die Track Teams d
 er re:publica
CLASS:PUBLIC
DESCRIPTION:https://calendify.com/session/QVx49dQEg2E
DTSTAMP:20260420T130023Z
CREATED:20230604T163806Z
LAST-MODIFIED:20230606T124205Z
END:VEVENT
END:VCALENDAR