BEGIN:VCALENDAR
VERSION:2.0
PRODID:calendify.com
BEGIN:VEVENT
UID:calendify-session-QVx49dnYg2E
DTSTART:20221230T143000Z
SEQUENCE:0
TRANSP:OPAQUE
DTEND:20221230T153000Z
URL:https://calendify.com/session/QVx49dnYg2E
LOCATION:Bühne
SUMMARY:Lightning-Talks
CLASS:PUBLIC
DESCRIPTION:https://calendify.com/session/QVx49dnYg2E
DTSTAMP:20260423T173439Z
CREATED:20221230T015005Z
LAST-MODIFIED:20221230T225005Z
END:VEVENT
END:VCALENDAR