BEGIN:VCALENDAR
VERSION:2.0
PRODID:calendify.com
BEGIN:VEVENT
UID:calendify-session-QVx49dorg2E
DTSTART:20221228T170000Z
SEQUENCE:0
TRANSP:OPAQUE
DTEND:20221228T180000Z
URL:https://calendify.com/session/QVx49dorg2E
LOCATION:HIP - Track 2 - Room 2
SUMMARY:IT Security for Activists
CLASS:PUBLIC
DESCRIPTION:https://calendify.com/session/QVx49dorg2E
DTSTAMP:20260422T205805Z
CREATED:20221218T163040Z
LAST-MODIFIED:20221230T225002Z
END:VEVENT
END:VCALENDAR