BEGIN:VCALENDAR
VERSION:2.0
PRODID:calendify.com
BEGIN:VEVENT
UID:calendify-session-QVx49dwEg2E
DTSTART:20221227T173000Z
SEQUENCE:0
TRANSP:OPAQUE
DTEND:20221227T181000Z
URL:https://calendify.com/session/QVx49dwEg2E
LOCATION:Fireshonks-Stream
SUMMARY:Best-of Digitalzwangmelder
CLASS:PUBLIC
DESCRIPTION:https://calendify.com/session/QVx49dwEg2E
DTSTAMP:20260422T180030Z
CREATED:20221226T143003Z
LAST-MODIFIED:20221230T225003Z
END:VEVENT
END:VCALENDAR