BEGIN:VCALENDAR
VERSION:2.0
PRODID:calendify.com
BEGIN:VEVENT
UID:calendify-session-QVx49k5BM2E
DTSTART:20220610T091500Z
SEQUENCE:0
TRANSP:OPAQUE
DTEND:20220610T094500Z
URL:https://calendify.com/session/QVx49k5BM2E
LOCATION:Stage 5
SUMMARY:Personal Journalism auf YouTube: Ist das der Journalismus der Zukun
 ft?
CLASS:PUBLIC
DESCRIPTION:https://calendify.com/session/QVx49k5BM2E
DTSTAMP:20260424T003600Z
CREATED:20220526T162948Z
LAST-MODIFIED:20220613T235204Z
END:VEVENT
END:VCALENDAR