BEGIN:VCALENDAR
VERSION:2.0
PRODID:calendify.com
BEGIN:VEVENT
UID:calendify-session-QVx49k8zM2E
DTSTART:20220205T100000Z
SEQUENCE:0
TRANSP:OPAQUE
DTEND:20220205T104500Z
URL:https://calendify.com/session/QVx49k8zM2E
LOCATION:M.rtc
SUMMARY:The Future of WebRTC
CLASS:PUBLIC
DESCRIPTION:https://calendify.com/session/QVx49k8zM2E
DTSTAMP:20260422T194720Z
CREATED:20220122T100102Z
LAST-MODIFIED:20220206T225002Z
END:VEVENT
END:VCALENDAR