BEGIN:VCALENDAR
VERSION:2.0
PRODID:calendify.com
BEGIN:VEVENT
UID:calendify-session-QVx49kNBM2E
DTSTART:20220610T080000Z
SEQUENCE:0
TRANSP:OPAQUE
DTEND:20220610T100000Z
URL:https://calendify.com/session/QVx49kNBM2E
LOCATION:Workshop T
SUMMARY:The trillion-dollar platform(s) in your pocket: who really owns you
 r smartphone?
CLASS:PUBLIC
DESCRIPTION:https://calendify.com/session/QVx49kNBM2E
DTSTAMP:20260423T135225Z
CREATED:20220526T162947Z
LAST-MODIFIED:20220613T235204Z
END:VEVENT
END:VCALENDAR