BEGIN:VCALENDAR
VERSION:2.0
PRODID:calendify.com
BEGIN:VEVENT
UID:calendify-session-QVx49kPEM2E
DTSTART:20220609T083000Z
SEQUENCE:0
TRANSP:OPAQUE
DTEND:20220609T090000Z
URL:https://calendify.com/session/QVx49kPEM2E
LOCATION:Lightning Box 1
SUMMARY:Digitale Transformation trifft wegweisende Ziele - Strategie Arbeit
  in der Senatskanzlei Berlin
CLASS:PUBLIC
DESCRIPTION:https://calendify.com/session/QVx49kPEM2E
DTSTAMP:20260423T172438Z
CREATED:20220526T162948Z
LAST-MODIFIED:20220613T235204Z
END:VEVENT
END:VCALENDAR