BEGIN:VCALENDAR
VERSION:2.0
PRODID:calendify.com
BEGIN:VEVENT
UID:calendify-session-QVx49kRbM2E
DTSTART:20220206T123000Z
SEQUENCE:0
TRANSP:OPAQUE
DTEND:20220206T133000Z
URL:https://calendify.com/session/QVx49kRbM2E
LOCATION:D.mysql
SUMMARY:MySQL Operator for Kubernetes
CLASS:PUBLIC
DESCRIPTION:https://calendify.com/session/QVx49kRbM2E
DTSTAMP:20260420T081343Z
CREATED:20220120T214609Z
LAST-MODIFIED:20220206T225004Z
END:VEVENT
END:VCALENDAR