BEGIN:VCALENDAR
VERSION:2.0
PRODID:calendify.com
BEGIN:VEVENT
UID:calendify-session-QVx49kkYM2E
DTSTART:20161227T171500Z
SEQUENCE:0
TRANSP:OPAQUE
DTEND:20161227T174500Z
URL:https://calendify.com/session/QVx49kkYM2E
LOCATION:Saal 1
SUMMARY:What's It Doing Now?
CLASS:PUBLIC
DESCRIPTION:https://calendify.com/session/QVx49kkYM2E
DTSTAMP:20260420T141030Z
CREATED:20220415T135302Z
LAST-MODIFIED:20220415T135302Z
END:VEVENT
END:VCALENDAR