BEGIN:VCALENDAR
VERSION:2.0
PRODID:calendify.com
BEGIN:VEVENT
UID:calendify-session-QVx49kmpM2E
DTSTART:20161229T214500Z
SEQUENCE:0
TRANSP:OPAQUE
DTEND:20161229T221500Z
URL:https://calendify.com/session/QVx49kmpM2E
LOCATION:Saal 2
SUMMARY:PUFs\, protection\, privacy\, PRNGs
CLASS:PUBLIC
DESCRIPTION:https://calendify.com/session/QVx49kmpM2E
DTSTAMP:20260420T083437Z
CREATED:20220415T135303Z
LAST-MODIFIED:20220415T135303Z
END:VEVENT
END:VCALENDAR