BEGIN:VCALENDAR
VERSION:2.0
PRODID:calendify.com
BEGIN:VEVENT
UID:calendify-session-QVx49kvDM2E
DTSTART:20220521T131500Z
SEQUENCE:0
TRANSP:OPAQUE
DTEND:20220521T141500Z
URL:https://calendify.com/session/QVx49kvDM2E
LOCATION:Medientheater
SUMMARY:Besser leben mit SSH
CLASS:PUBLIC
DESCRIPTION:https://calendify.com/session/QVx49kvDM2E
DTSTAMP:20260420T184209Z
CREATED:20220502T005752Z
LAST-MODIFIED:20220521T215002Z
END:VEVENT
END:VCALENDAR