BEGIN:VCALENDAR
VERSION:2.0
PRODID:calendify.com
BEGIN:VEVENT
UID:calendify-session-QVx49m7R42E
DTSTART:20240331T190000Z
SEQUENCE:0
TRANSP:OPAQUE
DTEND:20240331T200000Z
URL:https://calendify.com/session/QVx49m7R42E
LOCATION:Party Praetoria (Ohren) - E007
SUMMARY:Bleepy Toys - Es gibt was auf die Löffel
CLASS:PUBLIC
DESCRIPTION:https://calendify.com/session/QVx49m7R42E
DTSTAMP:20260424T024745Z
CREATED:20240328T125152Z
LAST-MODIFIED:20240401T142841Z
END:VEVENT
END:VCALENDAR