BEGIN:VCALENDAR
VERSION:2.0
PRODID:calendify.com
BEGIN:VEVENT
UID:calendify-session-QVx49mJ042E
DTSTART:20231229T181500Z
SEQUENCE:0
TRANSP:OPAQUE
DTEND:20231229T191500Z
URL:https://calendify.com/session/QVx49mJ042E
LOCATION:Saal Granville
SUMMARY:Writing secure software
CLASS:PUBLIC
DESCRIPTION:https://calendify.com/session/QVx49mJ042E
DTSTAMP:20260423T070041Z
CREATED:20231226T212003Z
LAST-MODIFIED:20240401T142932Z
END:VEVENT
END:VCALENDAR