BEGIN:VCALENDAR
VERSION:2.0
PRODID:calendify.com
BEGIN:VEVENT
UID:calendify-session-QVx49mNP42E
DTSTART:20231230T113000Z
SEQUENCE:0
TRANSP:OPAQUE
DTEND:20231230T130000Z
URL:https://calendify.com/session/QVx49mNP42E
LOCATION:Hall 4 (\"Main Lounge\")
SUMMARY:Somatic explorations in contact\, Contact Improvisation: Couriosity
 -driven and explorations in the field of Contact Improvisation with influx
 es from massage/bodywork and playfight. and
CLASS:PUBLIC
DESCRIPTION:https://calendify.com/session/QVx49mNP42E
DTSTAMP:20260422T164701Z
CREATED:20231229T113003Z
LAST-MODIFIED:20240401T142934Z
END:VEVENT
END:VCALENDAR