BEGIN:VCALENDAR
VERSION:2.0
PRODID:calendify.com
BEGIN:VEVENT
UID:calendify-session-QVx49mYD42E
DTSTART:20231228T120000Z
SEQUENCE:0
TRANSP:OPAQUE
DTEND:20231228T123000Z
URL:https://calendify.com/session/QVx49mYD42E
LOCATION:Critical Decentralisation Cluster [Saal D]
SUMMARY:Buying and Selling Domain Names in Namecoin
CLASS:PUBLIC
DESCRIPTION:https://calendify.com/session/QVx49mYD42E
DTSTAMP:20260423T031323Z
CREATED:20231227T100002Z
LAST-MODIFIED:20240401T142932Z
END:VEVENT
END:VCALENDAR