BEGIN:VCALENDAR
VERSION:2.0
PRODID:calendify.com
BEGIN:VEVENT
UID:calendify-session-QVx49moP42E
DTSTART:20230715T130000Z
SEQUENCE:0
TRANSP:OPAQUE
DTEND:20230715T140000Z
URL:https://calendify.com/session/QVx49moP42E
LOCATION:Raum 1.5
SUMMARY:Schärfen\, mit Hand und Stein Teil 2
CLASS:PUBLIC
DESCRIPTION:https://calendify.com/session/QVx49moP42E
DTSTAMP:20260420T180910Z
CREATED:20230806T113150Z
LAST-MODIFIED:20230806T113150Z
END:VEVENT
END:VCALENDAR